BEGIN:VCALENDAR
VERSION:2.0
PRODID:-//SVP Niederwil - Nesselnbach / Fischbach - Göslikon //NONSGML Events //EN
CALSCALE:GREGORIAN
X-WR-CALNAME:SVP Niederwil - Nesselnbach / Fischbach - Göslikon
BEGIN:VEVENT
CREATED:20260224T110559Z
UID:1481
DTEND:20260618T200000
DTSTART:20260618T193000
DTSTAMP:20260424T154856Z
LOCATION:Restaurant Löwen\, Gontenschwil
DESCRIPTION:Nach dem statutarischen Teil informiert Nationalrat Christian Imark ü
SUMMARY:SVP Bezirk Kulm: Generalversammlung\, mit Referat NR Christian Imark
ORGANIZER:
URL;VALUE=URI:https://www.svp-niederwil.ch/termine/svp-bezirk-kulm-generalversammlung-mit-referat-nr-christian-imark/
TRANSP:OPAQUE
END:VEVENT
END:VCALENDAR
