BEGIN:VCALENDAR
VERSION:2.0
PRODID:-//SVP Niederwil - Nesselnbach / Fischbach - Göslikon //NONSGML Events //EN
CALSCALE:GREGORIAN
X-WR-CALNAME:SVP Niederwil - Nesselnbach / Fischbach - Göslikon
BEGIN:VEVENT
CREATED:20251229T044552Z
UID:1465
DTEND:20260501T200000
DTSTART:20260501T190000
DTSTAMP:20260424T141826Z
LOCATION:Casino Bremgarten
DESCRIPTION:2026 Einladung Maitagung Mit Ueli Maurer, alt Bundesrat Anmeldung via 
SUMMARY:Maitagung &#8211\; SVP Bezirk Bremgarten
ORGANIZER:
URL;VALUE=URI:https://www.svp-niederwil.ch/termine/maitagung-svp-bezirk-bremgarten-3/
TRANSP:OPAQUE
END:VEVENT
END:VCALENDAR
