BEGIN:VCALENDAR
VERSION:2.0
PRODID:-//SVP Niederwil - Nesselnbach / Fischbach - Göslikon //NONSGML Events //EN
CALSCALE:GREGORIAN
X-WR-CALNAME:SVP Niederwil - Nesselnbach / Fischbach - Göslikon
BEGIN:VEVENT
CREATED:20240701T053903Z
UID:1268
DTEND:20240914T180000
DTSTART:20240914T170000
DTSTAMP:20260421T120254Z
LOCATION:Fohlenweidstrasse 6\, 5525 Fischbach-Göslikon
DESCRIPTION:Lernen sie die SVP Grossratskandidaten bei Wurst, Brot und etwas Kühl
SUMMARY:Wahlauftakt auf dem Hof von Grossrat Walter Stierli
ORGANIZER:SVP Bezirk Bremgarten
URL;VALUE=URI:https://www.svp-niederwil.ch/termine/wahlauftakt-auf-dem-hof-von-grossrat-walter-stierli/
TRANSP:OPAQUE
END:VEVENT
END:VCALENDAR
