BEGIN:VCALENDAR
VERSION:2.0
PRODID:-//SVP Niederwil - Nesselnbach / Fischbach - Göslikon //NONSGML Events //EN
CALSCALE:GREGORIAN
X-WR-CALNAME:SVP Niederwil - Nesselnbach / Fischbach - Göslikon
BEGIN:VEVENT
CREATED:20240320T160108Z
UID:1244
DTEND:20240503T200000
DTSTART:20240503T193000
DTSTAMP:20260423T095756Z
LOCATION:Schützenhaus Niederwil\, Schänisweg 4
DESCRIPTION:Geselliger Anlass  für Junge Bürgerliche  aus Niederwil, Fischbach-G
SUMMARY:Geselliger Anlass für Junge Bürgerliche
ORGANIZER:Daniel Stierli / Yanik Nyffeler
URL;VALUE=URI:https://www.svp-niederwil.ch/termine/geselliger-anlass-fuer-junge-buergerliche/
TRANSP:OPAQUE
END:VEVENT
END:VCALENDAR
