BEGIN:VCALENDAR
VERSION:2.0
PRODID:-//SVP Niederwil - Nesselnbach / Fischbach - Göslikon //NONSGML Events //EN
CALSCALE:GREGORIAN
X-WR-CALNAME:SVP Niederwil - Nesselnbach / Fischbach - Göslikon
BEGIN:VEVENT
CREATED:20231116T162351Z
UID:1201
DTEND:20240426T190000
DTSTART:20240426T183000
DTSTAMP:20260421T120416Z
LOCATION:Casino Bremgarten
DESCRIPTION:Gerne machen wir sie auf die Maitagung 2024 aufmerksam Anmeldungen, so
SUMMARY:Maitagung SVP Bezirk Bremgarten 2024
ORGANIZER:
URL;VALUE=URI:https://www.svp-niederwil.ch/termine/maitagung-svp-bezirk-bremgarten-2024/
TRANSP:OPAQUE
END:VEVENT
END:VCALENDAR
